BEGIN:VCALENDAR
VERSION:2.0
PRODID:-//Queen&#039;s Policy Engagement - ECPv4.7.0.1//NONSGML v1.0//EN
CALSCALE:GREGORIAN
METHOD:PUBLISH
X-WR-CALNAME:Queen&#039;s Policy Engagement
X-ORIGINAL-URL:https://qpol.dev.palebluedot.tv
X-WR-CALDESC:Events for Queen&#039;s Policy Engagement
BEGIN:VEVENT
DTSTART;TZID=Europe/London:20160513T180000
DTEND;TZID=Europe/London:20160513T200000
DTSTAMP:20260421T125756
CREATED:20160509T162338Z
LAST-MODIFIED:20160509T163738Z
UID:1314-1463162400-1463169600@qpol.dev.palebluedot.tv
SUMMARY:Irish Politics 1916-2016: Continuity and Change Panel Discussion
DESCRIPTION:This Friday evening 13th May\, as part of the biennial Political Studies Association of Ireland (PSAI) Postgraduate Conference\, a plenary event will take place in conjunction with QPol\, Queen’s University’s public policy engagement initiative. \nThe theme of the overall conference is ‘Irish Politics 1916-2016: Continuity and Change’ and the plenary session will consider this theme in the context of the 2016 elections in both Northern Ireland and the Republic of Ireland. \nThe panel will be chaired by Mark Devenport\, Political Editor for BBC Northern Ireland\, and speakers will include: \n\nMary Lou McDonald TD\, Deputy Leader of Sinn Féin\nJack Chambers\, Fianna Fáil TD for Dublin West\nDavid McCann\, Commentator and Deputy Editor of Slugger O’Toole news and opinion portal\nA representative of the Democratic Unionist Party\, TBC\n\nThe panel session will take place in the Lanyon Building\, 0G/074\, at Queen’s University from 6:00pm – 8:00pm and is open to all. Please register here via Eventbrite. \n
URL:https://qpol.dev.palebluedot.tv/event/psai-1916-2016-panel-event/
LOCATION:Lanyon Building 0G/074\, Queen's University Belfast\,  University Road\, Belfast\, Antrim\, BT7 1NN\, United Kingdom
CATEGORIES:Event
ATTACH;FMTTYPE=image/jpeg:https://qpol.dev.palebluedot.tv/wp-content/uploads/2016/05/Queens.jpg
END:VEVENT
END:VCALENDAR