BEGIN:VCALENDAR
VERSION:2.0
PRODID:-//Queen&#039;s Policy Engagement - ECPv4.7.0.1//NONSGML v1.0//EN
CALSCALE:GREGORIAN
METHOD:PUBLISH
X-WR-CALNAME:Queen&#039;s Policy Engagement
X-ORIGINAL-URL:https://qpol.dev.palebluedot.tv
X-WR-CALDESC:Events for Queen&#039;s Policy Engagement
BEGIN:VEVENT
DTSTART;TZID=Europe/London:20161007T123000
DTEND;TZID=Europe/London:20161009T133000
DTSTAMP:20260421T145629
CREATED:20160915T110245Z
LAST-MODIFIED:20160915T110245Z
UID:1744-1475843400-1476019800@qpol.dev.palebluedot.tv
SUMMARY:Political Studies Association of Ireland Annual Conference
DESCRIPTION:The Annual Conference of the Political Studies Association of Ireland (PSAI) will take place in the Europa Hotel\, Belfast\, over the weekend of 7-9th October 2016. \nThe Conference starts at 12.30pm on Friday 7 October and ends at 1.30pm on Sunday 9 October. \nCheck out the Conference Programme and register here. \n  \n
URL:https://qpol.dev.palebluedot.tv/event/psai-annual-conference/
LOCATION:Europa Hotel\, Great Victoria Street\, Belfast\, Antrim\, BT2 7AP\, United Kingdom
CATEGORIES:Event
ATTACH;FMTTYPE=image/png:https://qpol.dev.palebluedot.tv/wp-content/uploads/2016/09/PSAI.png
END:VEVENT
END:VCALENDAR