BEGIN:VCALENDAR
VERSION:2.0
PRODID:-//Queen&#039;s Policy Engagement - ECPv4.7.0.1//NONSGML v1.0//EN
CALSCALE:GREGORIAN
METHOD:PUBLISH
X-WR-CALNAME:Queen&#039;s Policy Engagement
X-ORIGINAL-URL:https://qpol.dev.palebluedot.tv
X-WR-CALDESC:Events for Queen&#039;s Policy Engagement
BEGIN:VEVENT
DTSTART;TZID=Europe/London:20160523T180000
DTEND;TZID=Europe/London:20160523T200000
DTSTAMP:20260421T125853
CREATED:20160510T114252Z
LAST-MODIFIED:20160510T114252Z
UID:1318-1464026400-1464033600@qpol.dev.palebluedot.tv
SUMMARY:Do you want to know more about dementia and Alzheimer's?
DESCRIPTION:Scientists\, academics and those involved in Alzheimer’s and dementia care from across Northern Ireland will come together on Monday 23rd May in the Island Hall of Lagan Valley Island Conference Centre\, Lisburn to hold a free public meeting to discuss the latest research on dementia and Alzheimer’s\, as well as current treatments. \nThe meeting will involve short talks from clinicians and researchers\, followed by the opportunity for those attending to engage in roundtable discussions with those involved in dementia care and ask questions or have their concerns addressed. \nThe aim is an informal and informative event that benefits members of the public and anyone with an interest in dementia care and research. \nNo booking required. Refreshments will be available from 5.30pm with the discussion starting at 6pm. \n  \n
URL:https://qpol.dev.palebluedot.tv/event/public-event-dementia/
LOCATION:Island Hall\, Lagan Valley Island Conference Centre \, Lisburn\, Antrim\, BT27 4RL\, United Kingdom
CATEGORIES:Event
ATTACH;FMTTYPE=image/jpeg:https://qpol.dev.palebluedot.tv/wp-content/uploads/2015/12/9741280_3e235cb71b_o.jpg
ORGANIZER;CN="Alzheimer%27s%20Research%20UK":MAILTO:reception@alzheimersresearchuk.org
END:VEVENT
END:VCALENDAR