BEGIN:VCALENDAR
VERSION:2.0
PRODID:-//Queen&#039;s Policy Engagement - ECPv4.7.0.1//NONSGML v1.0//EN
CALSCALE:GREGORIAN
METHOD:PUBLISH
X-WR-CALNAME:Queen&#039;s Policy Engagement
X-ORIGINAL-URL:https://qpol.dev.palebluedot.tv
X-WR-CALDESC:Events for Queen&#039;s Policy Engagement
BEGIN:VEVENT
DTSTART;TZID=Europe/London:20180831T133000
DTEND;TZID=Europe/London:20180831T150000
DTSTAMP:20260421T151136
CREATED:20180822T145709Z
LAST-MODIFIED:20180822T145709Z
UID:4857-1535722200-1535727600@qpol.dev.palebluedot.tv
SUMMARY:Public Seminar: The Future of UK Borders after Brexit
DESCRIPTION:The Centre for International Borders Research at Queen’s University Belfast is delighted to host Shanker Singham (Institute of Economic Affairs) and Tony Smith (Fortinus Global) for a public seminar on The Future of UK Borders after Brexit on Friday 31 August 2018 at 1.30pm. \nTo register\, please click here.  \nThe event will begin with opening comments from Dr Katy Hayward (Queen’s University Belfast) followed by a presentation from our two guests. There will be substantial time for a Question and Answer session. \nA sandwich lunch will be provided at 1.00pm. \nTime: 1pm lunch for 1.30pm start. The event will conclude by 3pm. \nDate: Friday 31st August 2018 \nVenue: Moot Law Court\, 2nd floor\, Main Tower\, Queen’s University Belfast \nThe speakers: \nShanker Singham is the Director of the International Trade and Competition Unit (ITCU) of the Institute of Economic Affairs. The ITCU is focused on providing advice to the UK government\, industry and media on the Brexit negotiations\, among other trade policy issues. As one of the world’s leading trade and competition lawyers\, he has worked on the privatisation of the UK electricity market\, the transition of the Soviet\, Central and Eastern European economies and the apertura in Latin America. He has worked on the accession of Poland and Hungary to the EU\, the WTO accessions of a number of countries\, including China and Russia. https://iea.org.uk/wp-content/uploads/2018/08/Shanker-Singham-about.pdf \nTony Smith CBE is the former Director General of UK Border Force. Tony has the unique distinction of having served as Head of Borders in two different countries – Citizenship and Immigration Canada (2000 – 2003) and the UK Immigration Service (2005 – 2007). He played a significant role in the operational response to the terrorist attacks in North America on 9/11 and in the UK on 7/7. Since retiring from government service\, Tony has provided strategic and operational advice to senior officials and Ministers on modern border management techniques and immigration reform programmes and strategies in Australia\, Malaysia\, Canada\, and the United Kingdom. https://www.fortinusglobal.com/our-team/ \nKaty Hayward is Reader in Sociology and a Fellow of the Senator George Mitchell Institute for Global Peace\, Security & Justice at Queen’s University. She has 20 years’ research experience on the impact of the EU on the Irish border and peace process\, including as a partner on the current Canadian SSHRC-funded ‘Borders in Globalization’ programme. She is the author of over 130 publications\, including the most recent report Brexit at the Border: voices from local communities in the Central Border Region of Ireland/Northern Ireland (2018). \nQueen’s is pleased to acknowledge funding support from the ESRC UK in a Changing Europe initiative. \n
URL:https://qpol.dev.palebluedot.tv/event/public-seminar-future-uk-borders-brexit/
LOCATION:Moot Court Room\, School of Law\, Tower Building\, Belfast\, Antrim \, BT7 1NN\, United Kingdom
CATEGORIES:Event
ATTACH;FMTTYPE=image/jpeg:https://qpol.dev.palebluedot.tv/wp-content/uploads/2017/09/lanyon.jpg
END:VEVENT
END:VCALENDAR