BEGIN:VCALENDAR
VERSION:2.0
PRODID:-//Queen&#039;s Policy Engagement - ECPv4.7.0.1//NONSGML v1.0//EN
CALSCALE:GREGORIAN
METHOD:PUBLISH
X-WR-CALNAME:Queen&#039;s Policy Engagement
X-ORIGINAL-URL:https://qpol.dev.palebluedot.tv
X-WR-CALDESC:Events for Queen&#039;s Policy Engagement
BEGIN:VEVENT
DTSTART;TZID=Europe/London:20180530T121500
DTEND;TZID=Europe/London:20180530T154500
DTSTAMP:20260421T224958
CREATED:20180510T114821Z
LAST-MODIFIED:20180510T115350Z
UID:4433-1527682500-1527695100@qpol.dev.palebluedot.tv
SUMMARY:QPol Brexit Clinic May 2018
DESCRIPTION:QPol Policy Engagement at Queen’s invites you to the latest in its series of ‘Brexit Clinics’ bringing together academic experts and stakeholders to discuss the issues facing the UK\, to consider the particular challenges the process poses for Northern Ireland and to provide informed insights into the process. \nWhatever your particular interest is in Brexit and the EU\, come along to the next Clinic on Wednesday 30 May at 12.15pm. The Clinic\, led by Professor David Phinnemore\, will consist of introductory comments on the process by senior Queen’s academics Dr Katy Hayward and Dr Viviane Gravey and will be followed by a Q+A session and discussion addressing issues raised by participants. \nPlaces are limited so please register early here.  \n
URL:https://qpol.dev.palebluedot.tv/event/qpol-brexit-clinic-may-2018/
CATEGORIES:Event
ATTACH;FMTTYPE=image/jpeg:https://qpol.dev.palebluedot.tv/wp-content/uploads/2017/09/lanyon.jpg
ORGANIZER;CN="QPol":MAILTO:qpol@qub.ac.uk
END:VEVENT
END:VCALENDAR