BEGIN:VCALENDAR
VERSION:2.0
PRODID:-//Queen&#039;s Policy Engagement - ECPv4.7.0.1//NONSGML v1.0//EN
CALSCALE:GREGORIAN
METHOD:PUBLISH
X-WR-CALNAME:Queen&#039;s Policy Engagement
X-ORIGINAL-URL:https://qpol.dev.palebluedot.tv
X-WR-CALDESC:Events for Queen&#039;s Policy Engagement
BEGIN:VEVENT
DTSTART;TZID=Europe/London:20171025T123000
DTEND;TZID=Europe/London:20171025T140000
DTSTAMP:20260421T215850
CREATED:20171010T092353Z
LAST-MODIFIED:20171010T092353Z
UID:3527-1508934600-1508940000@qpol.dev.palebluedot.tv
SUMMARY:QPol Brexit Clinic
DESCRIPTION:QPol Policy Engagement at Queen’s invites you to the latest in its series of ‘Brexit Clinics’ bringing together academic experts and stakeholders to discuss the issues facing the UK\, to consider the particular challenges the process poses for Northern Ireland and to provide informed insights into the process. \nThe European Council will meet on the 19-20 October\, during which the EU 27 will review the latest developments in the negotiations following the UK’s notification of its intention to leave the EU. Will a decision be taken that the Brexit negotiations are progressing well enough to move to the next stage? \nWhatever your particular interest is in Brexit and the EU\, come along to the next Clinic on Wednesday 25 October at 12.30pm. The Clinic will consist of introductory comments on the process by senior Queen’s academics\, particularly in light of the outworkings of the European Council meeting\, followed by a Q+A session and discussion addressing issues raised by participants. \nTo register please click here. \n
URL:https://qpol.dev.palebluedot.tv/event/qpol-brexit-clinic/
ATTACH;FMTTYPE=image/jpeg:https://qpol.dev.palebluedot.tv/wp-content/uploads/2017/08/Giants-causeway.jpg
ORGANIZER;CN="QPol":MAILTO:qpol@qub.ac.uk
END:VEVENT
END:VCALENDAR