BEGIN:VCALENDAR
VERSION:2.0
PRODID:-//Queen&#039;s Policy Engagement - ECPv4.7.0.1//NONSGML v1.0//EN
CALSCALE:GREGORIAN
METHOD:PUBLISH
X-WR-CALNAME:Queen&#039;s Policy Engagement
X-ORIGINAL-URL:https://qpol.dev.palebluedot.tv
X-WR-CALDESC:Events for Queen&#039;s Policy Engagement
BEGIN:VEVENT
DTSTART;TZID=Europe/London:20220308T163000
DTEND;TZID=Europe/London:20220308T183000
DTSTAMP:20260421T062244
CREATED:20220304T151159Z
LAST-MODIFIED:20220304T151159Z
UID:8315-1646757000-1646764200@qpol.dev.palebluedot.tv
SUMMARY:Queen's on Gender website and report launch
DESCRIPTION:You are invited to a celebration of ongoing work by the Centre for Gender in Politics related to gender at Queen’s University Belfast. This event marks the launch of the project Queen’s On Gender with the publication of the website as well as related report. \nQueen’s on Gender brings together leading academics from Queen’s University who can provide an authoritative voice on gender\, the many policy areas affected by gender\, and a look at the ongoing work by civil society related to gender. \nPlease join to mix and mingle. Event includes light snacks and drinks. Registration is via Eventbrite. \n  \n**Car Parking at Riddel Hall** \nPlease note\, due to the ongoing construction at Riddel Hall\, car parking is currently unavailable. \n
URL:https://qpol.dev.palebluedot.tv/event/queens-on-gender-website-and-report-launch/
LOCATION:Riddel Hall\, 185 Stranmillis Road \, Belfast\, Co Antrim \, BT9 5EE\, United Kingdom
CATEGORIES:Event
ATTACH;FMTTYPE=image/png:https://qpol.dev.palebluedot.tv/wp-content/uploads/2022/03/QoG.png
ORGANIZER;CN="Centre%20for%20Gender%20in%20Politics":MAILTO:centreforgender@qub.ac.uk
END:VEVENT
END:VCALENDAR