BEGIN:VCALENDAR
VERSION:2.0
PRODID:-//Queen&#039;s Policy Engagement - ECPv4.7.0.1//NONSGML v1.0//EN
CALSCALE:GREGORIAN
METHOD:PUBLISH
X-WR-CALNAME:Queen&#039;s Policy Engagement
X-ORIGINAL-URL:https://qpol.dev.palebluedot.tv
X-WR-CALDESC:Events for Queen&#039;s Policy Engagement
BEGIN:VEVENT
DTSTART;TZID=Europe/London:20200204T123000
DTEND;TZID=Europe/London:20200204T140000
DTSTAMP:20260421T141126
CREATED:20200108T144644Z
LAST-MODIFIED:20200108T144644Z
UID:6232-1580819400-1580824800@qpol.dev.palebluedot.tv
SUMMARY:Queen's Policy Engagement Post-Brexit Clinic - February 2020
DESCRIPTION:The UK’s request to extend the Brexit deadline to 31 January 2020 was agreed in 2019 but the UK can also leave before then if a deal is agreed by Parliament. However\, as things stand\, the 1st February 2020 will mark the first day of the transition period for the UK and the beginning of a very tight timeframe for negotiating the UK’s future relationship with the EU before the 31 December deadline. \nJoin us on 4 February 2020 for the latest updates from our resident Brexit experts\, led by Professor David Phinnemore. Will the UK have exited the EU on the 31st January? Has Boris simply kicked a cliff-edge Brexit down the line? Will the new withdrawal agreement create a border in the Irish Sea? \nTo register\, click here.  \nWe look forward to seeing you then. \n
URL:https://qpol.dev.palebluedot.tv/event/queens-policy-engagement-post-brexit-clinic-february-2020/
LOCATION:Canada Room and Council Chamber\, Queen's University Belfast\,  University Road\, Belfast\, BT7 1NN\, United Kingdom
CATEGORIES:Event
ATTACH;FMTTYPE=image/jpeg:https://qpol.dev.palebluedot.tv/wp-content/uploads/2019/11/Lanyon-Xmas.jpg
ORGANIZER;CN="Queen%27s%20Policy%20Engagement":MAILTO:qpol@qub.ac.uk
END:VEVENT
END:VCALENDAR