BEGIN:VCALENDAR
VERSION:2.0
PRODID:-//Queen&#039;s Policy Engagement - ECPv4.7.0.1//NONSGML v1.0//EN
CALSCALE:GREGORIAN
METHOD:PUBLISH
X-WR-CALNAME:Queen&#039;s Policy Engagement
X-ORIGINAL-URL:https://qpol.dev.palebluedot.tv
X-WR-CALDESC:Events for Queen&#039;s Policy Engagement
BEGIN:VEVENT
DTSTART;TZID=Europe/London:20220629T123000
DTEND;TZID=Europe/London:20220629T134500
DTSTAMP:20260421T044611
CREATED:20220620T142634Z
LAST-MODIFIED:20220622T073453Z
UID:8506-1656505800-1656510300@qpol.dev.palebluedot.tv
SUMMARY:Queen's Post-Brexit Clinic June 2022 - Hybrid Event
DESCRIPTION:Following on from our long-running series of Brexit Clinics at Queen’s\, this new series of public engagement events looks at the latest developments in the UK’s post-Brexit relationship with the EU and at the implementation of the Protocol on Ireland/Northern Ireland. \nJoin Professor David Phinnemore\, Professor Katy Hayward\, and Dr Billy Melo Araujo to discuss recent developments regarding the Protocol and the latest opinion poll findings on the views of voters in Northern Ireland on the Protocol and Brexit. The in-person event will take place in Lecture Theatre OG/007 in the Peter Froggatt Centre\, Queen’s Main Campus and will be live streamed for our remote viewers. \n
URL:https://qpol.dev.palebluedot.tv/event/queens-post-brexit-clinic-june-2022-hybrid-event/
LOCATION:Hybrid Event
ATTACH;FMTTYPE=image/jpeg:https://qpol.dev.palebluedot.tv/wp-content/uploads/2021/04/Post-Brexit-Governance-NI.jpg
ORGANIZER;CN="Queen%27s%20Policy%20Engagement":MAILTO:qpol@qub.ac.uk
END:VEVENT
END:VCALENDAR