BEGIN:VCALENDAR
VERSION:2.0
PRODID:-//Queen&#039;s Policy Engagement - ECPv4.7.0.1//NONSGML v1.0//EN
CALSCALE:GREGORIAN
METHOD:PUBLISH
X-WR-CALNAME:Queen&#039;s Policy Engagement
X-ORIGINAL-URL:https://qpol.dev.palebluedot.tv
X-WR-CALDESC:Events for Queen&#039;s Policy Engagement
BEGIN:VEVENT
DTSTART;TZID=Europe/London:20210927T160000
DTEND;TZID=Europe/London:20210927T173000
DTSTAMP:20260421T080938
CREATED:20210908T085614Z
LAST-MODIFIED:20210908T085614Z
UID:7976-1632758400-1632763800@qpol.dev.palebluedot.tv
SUMMARY:Re-thinking reparative justice in the 'post-George Floyd' era
DESCRIPTION:Presented by Professor Olivette Otele\, Vice-President of the Royal Historical Society. \nThe Centre for Public History at Queen’s and the BAME & International Staff Network are delighted to announce a lecture by Professor Olivette Otele\, Vice-President of the Royal Historical Society: \n‘Re-thinking reparative justice in the ‘post-George Floyd’ era’ \nThis will be followed by a conversation with Dr Kennetta Hammond Perry\, Director of the Stephen Lawrence Research Centre\, and will include an open Q&A session. \nAll welcome. \nTo register\, please click here.  \n
URL:https://qpol.dev.palebluedot.tv/event/re-thinking-reparative-justice-in-the-post-george-floyd-era/
LOCATION:Online
CATEGORIES:Event
ATTACH;FMTTYPE=image/jpeg:https://qpol.dev.palebluedot.tv/wp-content/uploads/2021/09/Reparative-Justice-image.jpg
END:VEVENT
END:VCALENDAR