BEGIN:VCALENDAR
VERSION:2.0
PRODID:-//Queen&#039;s Policy Engagement - ECPv4.7.0.1//NONSGML v1.0//EN
CALSCALE:GREGORIAN
METHOD:PUBLISH
X-WR-CALNAME:Queen&#039;s Policy Engagement
X-ORIGINAL-URL:https://qpol.dev.palebluedot.tv
X-WR-CALDESC:Events for Queen&#039;s Policy Engagement
BEGIN:VEVENT
DTSTART;TZID=Europe/London:20200323T130000
DTEND;TZID=Europe/London:20200323T140000
DTSTAMP:20260421T145114
CREATED:20200309T124833Z
LAST-MODIFIED:20200324T162237Z
UID:6376-1584968400-1584972000@qpol.dev.palebluedot.tv
SUMMARY:Recycling History: The Bicycle and Protest in Ireland with Barry Sheppard - ONLINE CHECK OUT IMAGINEBELFAST.COM
DESCRIPTION:Since the late nineteenth century\, the humble bicycle has played a minor\, yet significant role in Irish history. Internationally\, the bicycle has been an integral instrument of protest and cultural change. From use during times of revolution\, to a tool of cultural nationalism\, and a vehicle for calling attention to indigenous language rights\, the bicycle is inextricably linked to a formative period in Ireland’s history. This lecture will highlight the role the bicycle has played in history ‘from below’ in matters relating to the revolution\, the Irish language\, cultural nationalism\, and commemoration from the late nineteenth century\, right through to recent decades across the island of Ireland. \nBarry Sheppard is a PhD researcher in History at Queen’s University Belfast\, researching transnational history and the evolution of socio-religious ideas across national borders. Barry is the presenter of ‘History Now’ on Northern Visions Television\, and is a previous recipient of the Robert Dudley Edwards History Prize (2012)\, and the Giving Northern Ireland research bursary (2015). \n
URL:https://qpol.dev.palebluedot.tv/event/recycling-history-the-bicycle-and-protest-in-ireland-with-barry-sheppard/
LOCATION:Old Staff Common Room\, Queen's University Belfast\, University Road\, Belfast\, BT7 1NN\, United Kingdom
CATEGORIES:Event
ATTACH;FMTTYPE=image/jpeg:https://qpol.dev.palebluedot.tv/wp-content/uploads/2020/03/Imagine-2020.jpg
END:VEVENT
END:VCALENDAR