BEGIN:VCALENDAR
VERSION:2.0
PRODID:-//Queen&#039;s Policy Engagement - ECPv4.7.0.1//NONSGML v1.0//EN
CALSCALE:GREGORIAN
METHOD:PUBLISH
X-WR-CALNAME:Queen&#039;s Policy Engagement
X-ORIGINAL-URL:https://qpol.dev.palebluedot.tv
X-WR-CALDESC:Events for Queen&#039;s Policy Engagement
BEGIN:VEVENT
DTSTART;TZID=Europe/London:20160629T123000
DTEND;TZID=Europe/London:20160629T140000
DTSTAMP:20260421T125815
CREATED:20160621T144123Z
LAST-MODIFIED:20160627T084224Z
UID:1513-1467203400-1467208800@qpol.dev.palebluedot.tv
SUMMARY:After the referendum – what next for the European Union and the UK?
DESCRIPTION:On 24 June\, the result of the UK’s EU referendum was announced: a slim majority voted LEAVE\, while majorities in Northern Ireland and Scotland favoured “REMAIN”. Presently\, there is no decision on whether the UK will trigger Article 50 TEU and withdraw from the EU. \nIf it does\, there are myriads of questions to be addressed: how does the process work? Should regions that voted remain be dragged out of the EU with England and Wales? What becomes of policies and laws once implemented as a result of EU membership? What does this mean for UK citizens abroad in the EU and EU citizens in the UK? What is the impact on the border of Northern Ireland? \nThe European Union will not remain the same\, whatever happens. The referendum process has highligthed  serious questions which must be addressed. How to revive the promise of improving working and living conditions in such ways that poorer citizens do not feel let down by the EU? What about planned legislation on mobile EU citizens\, the future of social Europe and EU environmental policies? How to address right wing populism and violence\, so sadly illustrated by the death of Jo Cox? These are only some of the most urgent ones…. \nExperts from Queen’s University’s Jean Monnet Centre of Excellence “Tension at the Fringes of the European Union” (TREUP) offer a first reflection in the week after the referendum\, professionally moderated by Julia Paul (QUB\, School of English\, BBC freelancer). This panel will be composed of \n\nDr Mary Dobbs (Queen’s University\, School of Law) \nProf. Yvonne Galligan (Queen’s University\, School of Politics\, International Studies and Philosophy) \nDr Lee McGowan (Queen’s University\, School of Politics\, International Studies and Philosophy)\nDr Brian Jack (Queen’s University\, School of Law)\nDr Billy Melo Araujo (Queen’s University\, School of Law)\nProf. John Morison (Queen’s University\, School of Law)\nProf. David Phinnemore (Queen’s University\, School of Politics\, International Studies and Philosophy)\nProf. Dagmar Schiek (Queen’s University\, School of Law\, leading TREUP)\n\nTo register for this event please click here.\n\nWhile we are open to spontaneous questions\, questions can also be sent in advance to treup@qub.ac.uk \n
URL:https://qpol.dev.palebluedot.tv/event/referendum-what-next-for-uk/
LOCATION:Lanyon Building 0G/074\, Queen's University Belfast\,  University Road\, Belfast\, Antrim\, BT7 1NN\, United Kingdom
CATEGORIES:Event
ATTACH;FMTTYPE=image/png:https://qpol.dev.palebluedot.tv/wp-content/uploads/2016/06/EU.png
ORGANIZER;CN="Dagmar%20Schiek":MAILTO:D.Schiek@qub.ac.uk
END:VEVENT
END:VCALENDAR