BEGIN:VCALENDAR
VERSION:2.0
PRODID:-//Queen&#039;s Policy Engagement - ECPv4.7.0.1//NONSGML v1.0//EN
CALSCALE:GREGORIAN
METHOD:PUBLISH
X-WR-CALNAME:Queen&#039;s Policy Engagement
X-ORIGINAL-URL:https://qpol.dev.palebluedot.tv
X-WR-CALDESC:Events for Queen&#039;s Policy Engagement
BEGIN:VEVENT
DTSTART;TZID=Europe/London:20190507T180000
DTEND;TZID=Europe/London:20190507T193000
DTSTAMP:20260421T193632
CREATED:20190418T141444Z
LAST-MODIFIED:20190418T141527Z
UID:5528-1557252000-1557257400@qpol.dev.palebluedot.tv
SUMMARY:Reflections on Policing with the Community: people\, partnerships and public confidence with George Hamilton QPM
DESCRIPTION:Queen’s University is delighted to welcome George Hamilton QPM\, Chief Constable Police Service of Northern Ireland\, to deliver a public lecture at the University. The event will be hosted by Professor Kieran McEvoy\, Queen’s University Belfast. \nAbout the speaker \nGeorge Hamilton was appointed Chief Constable of the Police Service of Northern Ireland on 30 June 2014. \nChief Constable Hamilton’s policing experience started in 1985 when he joined the Royal Ulster Constabulary. Since then he has gained a wide range of experience in a variety of operational roles. \nIn 2009 he was appointed as an Assistant Chief Constable in Strathclyde Police in Scotland\, with responsibility for serious and organised crime\, public protection and counter terrorism investigations. \nPrior to his appointment in Strathclyde he had been Chief Superintendent and District Commander in ‘B’ District (South and East Belfast). \nHe also served as a Detective Chief Inspector and Detective Superintendent in the PSNI where he was involved in a number of high profile and complex investigations. During a three secondment in England he worked on a range of training and organisational development projects. \nChief Constable Hamilton holds a Bachelor of Arts Degree in Politics and Economics and a Masters in Business Administration. He is a member of the Institute of Directors and the FBI Law Enforcement Executive Leadership Association. \nIn 2015 he was awarded the Queen’s Police Medal in the Her Majesty’s Birthday Honours list. \nIn January 2019 he announced his intention to retire from policing in June 2019. \n
URL:https://qpol.dev.palebluedot.tv/event/reflections-on-policing-with-the-community-people-partnerships-and-public-confidence-with-george-hamilto-qpm/
CATEGORIES:Event
ATTACH;FMTTYPE=image/jpeg:https://qpol.dev.palebluedot.tv/wp-content/uploads/2019/04/George_Hamilton_Visual_picz.jpg
ORGANIZER;CN="Queen%27s%20Policy%20Engagement":MAILTO:qpol@qub.ac.uk
END:VEVENT
END:VCALENDAR