BEGIN:VCALENDAR
VERSION:2.0
PRODID:-//Queen&#039;s Policy Engagement - ECPv4.7.0.1//NONSGML v1.0//EN
CALSCALE:GREGORIAN
METHOD:PUBLISH
X-WR-CALNAME:Queen&#039;s Policy Engagement
X-ORIGINAL-URL:https://qpol.dev.palebluedot.tv
X-WR-CALDESC:Events for Queen&#039;s Policy Engagement
BEGIN:VEVENT
DTSTART;TZID=Europe/London:20190109T183000
DTEND;TZID=Europe/London:20190109T200000
DTSTAMP:20260421T193554
CREATED:20181218T092700Z
LAST-MODIFIED:20181218T092719Z
UID:5247-1547058600-1547064000@qpol.dev.palebluedot.tv
SUMMARY:Simon Coveney: 'Maintaining the habit of Co-operation'
DESCRIPTION:Queen’s University Policy Engagement Lecture Series provides a platform for meaningful discussion\, engaged debate\, and open dialogue on a range of today’s most pressing issues. It honours the commitments made in the University’s Social Charter to engage civic conversations\, knowledge exchange and intercultural dialogue. \n
URL:https://qpol.dev.palebluedot.tv/event/simon-coveney-maintaining-the-habit-of-co-operation/
CATEGORIES:Event
ATTACH;FMTTYPE=image/jpeg:https://qpol.dev.palebluedot.tv/wp-content/uploads/2018/12/Simon-Coveney.jpg
ORGANIZER;CN="Queen%27s%20Policy%20Engagement":MAILTO:qpol@qub.ac.uk
END:VEVENT
END:VCALENDAR