BEGIN:VCALENDAR
VERSION:2.0
PRODID:-//Queen&#039;s Policy Engagement - ECPv4.7.0.1//NONSGML v1.0//EN
CALSCALE:GREGORIAN
METHOD:PUBLISH
X-WR-CALNAME:Queen&#039;s Policy Engagement
X-ORIGINAL-URL:https://qpol.dev.palebluedot.tv
X-WR-CALDESC:Events for Queen&#039;s Policy Engagement
BEGIN:VEVENT
DTSTART;TZID=Europe/London:20170119T193000
DTEND;TZID=Europe/London:20170119T213000
DTSTAMP:20260421T174339
CREATED:20170111T164848Z
LAST-MODIFIED:20170111T164848Z
UID:2329-1484854200-1484861400@qpol.dev.palebluedot.tv
SUMMARY:Slugger Session in association with QPol – The Review of the Year SO FAR!
DESCRIPTION:We are less than two weeks into the new year and already it seems like we have a whole year’s worth of news stories behind us. \nRHI\, the collapse of the Assembly\, potential elections and much more! \nJoin us next Thursday 19th of January for a Slugger Session as we explore all these issues with our panel of experts: \n\nAllison Morris – Irish News Journalist\nDawn Purvis – Former MLA\nDr Margaret O’Callaghan – Historian and political analyst at Queen’s University\nProf Rick Wilford – Professor of Politics at Queen’s University\nAlan Meban – Slugger Contributor and Political Commentator\n\nHost for the evening is Slugger Deputy Editor David McCann. \nTo register please click here. \n
URL:https://qpol.dev.palebluedot.tv/event/slugger-session-in-association-with-qpol-the-review-of-the-year-so-far/
LOCATION:The Dark Horse\, Hill Street \, Belfast\, Antrim\, BT1 2LB\, United Kingdom
CATEGORIES:Event
ATTACH;FMTTYPE=image/png:https://qpol.dev.palebluedot.tv/wp-content/uploads/2017/01/review-so-far-2017.png
ORGANIZER;CN="QPol":MAILTO:qpol@qub.ac.uk
END:VEVENT
END:VCALENDAR