BEGIN:VCALENDAR
VERSION:2.0
PRODID:-//Queen&#039;s Policy Engagement - ECPv4.7.0.1//NONSGML v1.0//EN
CALSCALE:GREGORIAN
METHOD:PUBLISH
X-WR-CALNAME:Queen&#039;s Policy Engagement
X-ORIGINAL-URL:https://qpol.dev.palebluedot.tv
X-WR-CALDESC:Events for Queen&#039;s Policy Engagement
BEGIN:VEVENT
DTSTART;TZID=Europe/London:20191108T100000
DTEND;TZID=Europe/London:20191108T153000
DTSTAMP:20260421T161058
CREATED:20190927T091643Z
LAST-MODIFIED:20190927T091643Z
UID:5978-1573207200-1573227000@qpol.dev.palebluedot.tv
SUMMARY:Social enterprises in Northern Ireland: Promoting business for social good
DESCRIPTION:The social enterprise sector is hugely attractive to people wanting to create innovative solutions to local and global problems. \nIn an increasingly globalised world\, there has been a shift from a pure focus on either the private\, public or non-profit sectors. Social enterprises bridge the gap between these sectors\, providing solutions that serve a social purpose\, while achieving financial sustainability. \nThis event considers why social enterprise organisations that set out to meet societal needs through positive social impact are of such high interest to students\, entrepreneurs\, academics and government policy makers. Using examples from practitioners and research studies\, we will consider what makes a sustainable social enterprise. \nThe session will be a dynamic\, informal and very practical event; designed to inspire\, inform and motivate school leavers and members of the general public wanting to understand more about the positive impact businesses can have on society. \n
URL:https://qpol.dev.palebluedot.tv/event/social-enterprises-in-northern-ireland-promoting-business-for-social-good/
LOCATION:Riddel Hall\, 185 Stranmillis Road \, Belfast\, Co Antrim \, BT9 5EE\, United Kingdom
CATEGORIES:Event
ATTACH;FMTTYPE=image/jpeg:https://qpol.dev.palebluedot.tv/wp-content/uploads/2019/09/https___cdn.evbuc_.com_images_73341197_313283896071_1_original.jpg
END:VEVENT
END:VCALENDAR