BEGIN:VCALENDAR
VERSION:2.0
PRODID:-//Queen&#039;s Policy Engagement - ECPv4.7.0.1//NONSGML v1.0//EN
CALSCALE:GREGORIAN
METHOD:PUBLISH
X-WR-CALNAME:Queen&#039;s Policy Engagement
X-ORIGINAL-URL:https://qpol.dev.palebluedot.tv
X-WR-CALDESC:Events for Queen&#039;s Policy Engagement
BEGIN:VEVENT
DTSTART;TZID=Europe/London:20210225T160000
DTEND;TZID=Europe/London:20210225T170000
DTSTAMP:20260421T100215
CREATED:20210217T131623Z
LAST-MODIFIED:20210217T131623Z
UID:7500-1614268800-1614272400@qpol.dev.palebluedot.tv
SUMMARY:Teaching without God: The Retreat of Religion and the Rise of the Humanities in American Liberal Education
DESCRIPTION:The event is part of the Religion\, Science and the Humanities Seminar Series 2021 and will feature keynote lecture from Professor James Turner\, Cavanaugh Professor of Humanities Emeritus at the University of Notre Dame\, followed by a Q&A session. \nFor more information\, and to view the event\, please click HERE \n
URL:https://qpol.dev.palebluedot.tv/event/teaching-without-god-the-retreat-of-religion-and-the-rise-of-the-humanities-in-american-liberal-education/
LOCATION:Online
CATEGORIES:Event
ATTACH;FMTTYPE=image/jpeg:https://qpol.dev.palebluedot.tv/wp-content/uploads/2021/02/25-feb-event.jpg
END:VEVENT
END:VCALENDAR