BEGIN:VCALENDAR
VERSION:2.0
PRODID:-//Queen&#039;s Policy Engagement - ECPv4.7.0.1//NONSGML v1.0//EN
CALSCALE:GREGORIAN
METHOD:PUBLISH
X-WR-CALNAME:Queen&#039;s Policy Engagement
X-ORIGINAL-URL:https://qpol.dev.palebluedot.tv
X-WR-CALDESC:Events for Queen&#039;s Policy Engagement
BEGIN:VEVENT
DTSTART;TZID=Europe/London:20191106T190000
DTEND;TZID=Europe/London:20191106T210000
DTSTAMP:20260421T162134
CREATED:20190927T090147Z
LAST-MODIFIED:20190927T091205Z
UID:5971-1573066800-1573074000@qpol.dev.palebluedot.tv
SUMMARY:The art of health and well-being
DESCRIPTION:Historically\, the arts have been seen as the remit of the talented few\, with most of us putting down our paintbrushes\, tidying away our dancing shoes and closing our poetry books after we have left school. \nThis event aims to challenge that notion\, showing that not only can everyone engage with the arts\, but that art and creativity can be inherently beneficial to our health and wellbeing. \nWe will showcase the artistic work of both healthcare professionals and people living with chronic illness; who will describe the benefit that the arts have had on their health and wellbeing. \nThe event will include live music performances\, photography and poetry. Additionally\, we will showcase artistic work created by patients during haemodialysis sessions\, produced as part of a research project led by Queen’s University Belfast. \n
URL:https://qpol.dev.palebluedot.tv/event/the-art-of-health-and-well-being/
LOCATION:Sunflower Public House\, 65 Union Street\, Belfast\, Northern Ireland\, BT1 2JG\, United Kingdom
CATEGORIES:Event
ATTACH;FMTTYPE=image/jpeg:https://qpol.dev.palebluedot.tv/wp-content/uploads/2019/09/https___cdn.evbuc_.com_images_72231419_313283896071_1_original.jpg
END:VEVENT
END:VCALENDAR