BEGIN:VCALENDAR
VERSION:2.0
PRODID:-//Queen&#039;s Policy Engagement - ECPv4.7.0.1//NONSGML v1.0//EN
CALSCALE:GREGORIAN
METHOD:PUBLISH
X-WR-CALNAME:Queen&#039;s Policy Engagement
X-ORIGINAL-URL:https://qpol.dev.palebluedot.tv
X-WR-CALDESC:Events for Queen&#039;s Policy Engagement
BEGIN:VEVENT
DTSTART;TZID=Europe/London:20211110T190000
DTEND;TZID=Europe/London:20211110T203000
DTSTAMP:20260421T062444
CREATED:20211101T184828Z
LAST-MODIFIED:20211101T184828Z
UID:8107-1636570800-1636576200@qpol.dev.palebluedot.tv
SUMMARY:The climate crisis and ensuring a just transition beyond carbon
DESCRIPTION:This event will take place at Queen’s University Belfast and will involve panel talks and discussions\, followed by a Q&A session on the crucial role of trade unions in climate action. \nWith growing awareness of the climate crisis\, the focus is now shifting towards climate action and how to transition societies beyond their dependence on fossil fuels. For some this means that this transition is now inevitable. However\, whether it will be “just” is not. This discussion will examine the crucial role of the trades’ union movement (where the idea of a ‘just transition’ originated) in contributing to the political process of managing this transition in a manner that is inclusive\, democratic and where no community or section of society or the workforce is left behind. \nThis event will be led by John Barry\, Professor of Green Political Economy and Co-director of the Centre for Sustainability at Queen’s. Panel members will include Hilary Wainwright\, University of Bradford\, Susan Fitzgerald\, Unite the Union’s Regional Industrial Officer for Northern Ireland\, and Dr. Stiofán Ó Nualláin\, co-director of Trademark Belfast\, the Irish Congress of Trade Unions political education and anti-sectarian unit. \n
URL:https://qpol.dev.palebluedot.tv/event/the-climate-crisis-and-ensuring-a-just-transition-beyond-carbon/
LOCATION:Room PFC/0G/007\, Peter Froggatt Centre\, Queen's University\, Belfast\, Antrim\, BT7 1NN\, United Kingdom
CATEGORIES:Event
ATTACH;FMTTYPE=image/jpeg:https://qpol.dev.palebluedot.tv/wp-content/uploads/2021/11/ESCR-Festival-NI.jpg
END:VEVENT
END:VCALENDAR