BEGIN:VCALENDAR
VERSION:2.0
PRODID:-//Queen&#039;s Policy Engagement - ECPv4.7.0.1//NONSGML v1.0//EN
CALSCALE:GREGORIAN
METHOD:PUBLISH
X-WR-CALNAME:Queen&#039;s Policy Engagement
X-ORIGINAL-URL:https://qpol.dev.palebluedot.tv
X-WR-CALDESC:Events for Queen&#039;s Policy Engagement
BEGIN:VEVENT
DTSTART;TZID=Europe/London:20200811T113000
DTEND;TZID=Europe/London:20200811T123000
DTSTAMP:20260421T113458
CREATED:20200701T152940Z
LAST-MODIFIED:20200701T152940Z
UID:6966-1597145400-1597149000@qpol.dev.palebluedot.tv
SUMMARY:The Covid-19 Crisis and Strategic Management
DESCRIPTION:Dr Lisa Messina discusses surviving in a crisis; exploring crises management strategies in small and medium-sized enterprises. How is your business addressing the challenges brought about by the Covid-19 crisis? \nIn this webinar\, discussion will focus on the key challenges brought about by circumstances of severe crises\, and how small and medium-sized enterprises (SMEs) can address them. The session will examine and evaluate the effectiveness of existing SME strategic and crisis management tools in the light of the current Covid-19 public health crisis\, and attempt to shed light on the opportunities and threats stemming from its market disruption. \nYou can register for the webinar here\, which will take place on Tuesday 11th August 2020\, 11:30 AM – 12:30 PM. \nAny queries should be made to qmsresearch.support@qub.ac.uk \n
URL:https://qpol.dev.palebluedot.tv/event/the-covid-19-crisis-and-strategic-management/
LOCATION:Online
CATEGORIES:Event
ATTACH;FMTTYPE=image/jpeg:https://qpol.dev.palebluedot.tv/wp-content/uploads/2020/07/Leadership-INstitute.jpg
END:VEVENT
END:VCALENDAR