BEGIN:VCALENDAR
VERSION:2.0
PRODID:-//Queen&#039;s Policy Engagement - ECPv4.7.0.1//NONSGML v1.0//EN
CALSCALE:GREGORIAN
METHOD:PUBLISH
X-WR-CALNAME:Queen&#039;s Policy Engagement
X-ORIGINAL-URL:https://qpol.dev.palebluedot.tv
X-WR-CALDESC:Events for Queen&#039;s Policy Engagement
BEGIN:VEVENT
DTSTART;TZID=Europe/London:20200324T180000
DTEND;TZID=Europe/London:20200324T193000
DTSTAMP:20260421T160316
CREATED:20200309T125208Z
LAST-MODIFIED:20200324T162206Z
UID:6378-1585072800-1585078200@qpol.dev.palebluedot.tv
SUMMARY:The Democratic Imagination - CANCELLED
DESCRIPTION:In Britain\, what happens when a ‘Remainer’ imagines talking to a ‘Leaver? Or in the USA\, when someone who is ‘pro-life’ imagines a conversation with someone who is ‘pro-choice’? And\, closer to home\, how does a nationalist get along with a unionist in an imagined conversation about flag displays or a united Ireland? When we use our democratic imagination and imagine talking to people we disagree with\, does this lead to a positive outcome? Does it make us more open to compromise on issues\, and more positively disposed towards people we disagree with? \nWe will discuss the impact of the democratic imagination. Does it make political divisions worse or better? We examine the idea that the future of democracy relies upon our ability to positively imagine engaging with people with whom we disagree. Presentations by Professor John Garry and Dr. James Pow from The Democracy Unit in Queen’s University Belfast\, followed by questions and answers. \n
URL:https://qpol.dev.palebluedot.tv/event/the-democratic-imagination/
CATEGORIES:Event
ATTACH;FMTTYPE=image/jpeg:https://qpol.dev.palebluedot.tv/wp-content/uploads/2020/03/Imagine-2020.jpg
END:VEVENT
END:VCALENDAR