BEGIN:VCALENDAR
VERSION:2.0
PRODID:-//Queen&#039;s Policy Engagement - ECPv4.7.0.1//NONSGML v1.0//EN
CALSCALE:GREGORIAN
METHOD:PUBLISH
X-WR-CALNAME:Queen&#039;s Policy Engagement
X-ORIGINAL-URL:https://qpol.dev.palebluedot.tv
X-WR-CALDESC:Events for Queen&#039;s Policy Engagement
BEGIN:VEVENT
DTSTART;TZID=Europe/London:20200424T090000
DTEND;TZID=Europe/London:20200424T170000
DTSTAMP:20260421T144110
CREATED:20200309T142938Z
LAST-MODIFIED:20200421T104750Z
UID:6401-1587718800-1587747600@qpol.dev.palebluedot.tv
SUMMARY:The Ireland-Northern Ireland Protocol to the Brexit Withdrawal Agreement - CANCELLED
DESCRIPTION:The ICEL and the School of Law in Queen’s University Belfast are delighted to announce an all-day conference on the Brexit Withdrawal Agreement. The conference will feature an impressive range of speakers who will address the most important issues arising in this complex and ever-changing area\, including the governance arrangements by which the agreement will be implemented in both the UK and the EU; Fundamental Rights; Citizenship and Free Movement; Goods\, Customs and the Single Market; and likely future developments. \nConfirmed speakers and chairs include: \n\nThe Hon Mr Justice John Cooke\, formerly of the High Court of Ireland and the Court of Justice of the European Union and Chairman of the ICEL\nDr Thomas Liefländer\, Deputy Head of Unit\, Task Force for Relations with the United Kingdom\, European Commission\nProfessor Daniel Halberstam\, University of Michigan\nProfessor Gordon Anthony\, Queen’s University Belfast\nSir Declan Morgan\, Lord Chief Justice of Northern Ireland\nCiaran Toland SC\, Law Library -Professor Christopher McCrudden\, Queen’s University Belfast -Professor Imelda Maher\, University College Dublin\nProfessor Colin Harvey\, Queen’s University Belfast\nMargaret Gray SC\, QC\nDr Katy Hayward\, Queen’s University Belfast\nDr John Temple Lang\, ICEL\, Trinity College Dublin\, Senior Visiting Research Fellow\, Oxford University\, and Solicitor\nProfessor Catherine Donnelly BL\, Trinity College Dublin and Law Library\n\n
URL:https://qpol.dev.palebluedot.tv/event/the-ireland-northern-ireland-protocol-to-the-brexit-withdrawal-agreement/
LOCATION:School of Law\, Queen's University\, Belfast\, Antrim\, BT7 1NN\, United Kingdom
CATEGORIES:Event
ATTACH;FMTTYPE=image/jpeg:https://qpol.dev.palebluedot.tv/wp-content/uploads/2017/09/lanyon.jpg
END:VEVENT
END:VCALENDAR