BEGIN:VCALENDAR
VERSION:2.0
PRODID:-//Queen&#039;s Policy Engagement - ECPv4.7.0.1//NONSGML v1.0//EN
CALSCALE:GREGORIAN
METHOD:PUBLISH
X-WR-CALNAME:Queen&#039;s Policy Engagement
X-ORIGINAL-URL:https://qpol.dev.palebluedot.tv
X-WR-CALDESC:Events for Queen&#039;s Policy Engagement
BEGIN:VEVENT
DTSTART;TZID=Europe/London:20200328T150000
DTEND;TZID=Europe/London:20200328T164500
DTSTAMP:20260421T130203
CREATED:20200309T131102Z
LAST-MODIFIED:20200324T162009Z
UID:6395-1585407600-1585413900@qpol.dev.palebluedot.tv
SUMMARY:The Quiet Shuffling of Feet - CANCELLED
DESCRIPTION:David Bolton\, as we discover in The Quiet Shuffling of Feet\, was no stranger to conflict trauma. He was involved\, both personally and professionally\, in the Enniskillen bombing and responded to the Omagh bombing. \n“This is no ordinary story. As a second responder\, David was at the heart of a number of major trauma incidents. For the first time David tells his personal story\, revealing earlier childhood encounters with trauma.” Fergus Cooper\, Director \nIn 2001 David left the main health service to establish the Northern Ireland Centre for Trauma and Transformation. As well as providing recovery services the Centre carried out ground-breaking research\, in partnership with the University of Ulster. This dispelled the myth that the traumatic impact of The Troubles is limited to those who directly experienced violence. It evidenced some of the highest recorded levels of PTSD in a society\, post-conflict. \nDavid and his colleagues’ commitment to a holistic response to conflict trauma led the team to Sarajevo\, Nepal\, and New York. He went on to author Conflict\, Peace and Mental Health\, a book that addresses the consequences of conflict trauma within the Northern Ireland experience. \nThis intimate and reflective film was recorded over a seven month period\, mostly on location in Fermanagh and Tyrone. A challenging yet inspirational film. Visually stunning\, it is a moving tribute to one man’s unbreakable spirit. \n
URL:https://qpol.dev.palebluedot.tv/event/the-quiet-shuffling-of-feet/
LOCATION:Queen’s Film Theatre\, 20 University Road\, Belfast\, Northern Ireland\, BT7 1NN\, United Kingdom
CATEGORIES:Event
ATTACH;FMTTYPE=image/jpeg:https://qpol.dev.palebluedot.tv/wp-content/uploads/2020/03/Imagine-2020.jpg
END:VEVENT
END:VCALENDAR