BEGIN:VCALENDAR
VERSION:2.0
PRODID:-//Queen&#039;s Policy Engagement - ECPv4.7.0.1//NONSGML v1.0//EN
CALSCALE:GREGORIAN
METHOD:PUBLISH
X-WR-CALNAME:Queen&#039;s Policy Engagement
X-ORIGINAL-URL:https://qpol.dev.palebluedot.tv
X-WR-CALDESC:Events for Queen&#039;s Policy Engagement
BEGIN:VEVENT
DTSTART;TZID=Europe/London:20181109T143000
DTEND;TZID=Europe/London:20181109T153000
DTSTAMP:20260421T193108
CREATED:20181023T204810Z
LAST-MODIFIED:20181023T204810Z
UID:5048-1541773800-1541777400@qpol.dev.palebluedot.tv
SUMMARY:Thinking in time: the developmental psychology of future-thinking
DESCRIPTION:Following a discussion about how future-related decision-making changes as children get older\, we invite you to take part in a live experiment where you can try out a variety of the computer-based tasks used in our research. \nWith Professor Teresa McCormack from Queen’s University Belfast. To register please click here.  \n
URL:https://qpol.dev.palebluedot.tv/event/thinking-time-developmental-psychology-future-thinking/
CATEGORIES:Event
ATTACH;FMTTYPE=image/jpeg:https://qpol.dev.palebluedot.tv/wp-content/uploads/2018/09/ESRCNI_Square.jpg
END:VEVENT
END:VCALENDAR