BEGIN:VCALENDAR
VERSION:2.0
PRODID:-//Queen&#039;s Policy Engagement - ECPv4.7.0.1//NONSGML v1.0//EN
CALSCALE:GREGORIAN
METHOD:PUBLISH
X-WR-CALNAME:Queen&#039;s Policy Engagement
X-ORIGINAL-URL:https://qpol.dev.palebluedot.tv
X-WR-CALDESC:Events for Queen&#039;s Policy Engagement
BEGIN:VEVENT
DTSTART;TZID=Europe/London:20200325T173000
DTEND;TZID=Europe/London:20200325T183000
DTSTAMP:20260421T130717
CREATED:20200309T130134Z
LAST-MODIFIED:20200324T162107Z
UID:6387-1585157400-1585161000@qpol.dev.palebluedot.tv
SUMMARY:Ulster's Lesser Spotted Queer Protestant - CANCELLED
DESCRIPTION:In this performance lecture\, let Richard O’Leary take you in search of Ulster’s Lesser Spotted Queer Protestant. \nThe existence of the LSQP has long been denied by many historians and Christians\, but Dr. O’Leary will present evidence to challenge the orthodox view. Drawing on newly accessed archival material\, Dr. O’Leary presents both an objective and subjective view. Expect shy historians\, fairies\, an arse bishop\, quack doctors\, lesbian divas\, erasure\, puppets. This performance lecture will be followed by a panel discussion with Jeff Dudgeon and Adrianne Elson. \nDr. Richard O’Leary is Visiting Research Fellow in the School of History at Queen’s University Belfast and Coordinator of the Northern Ireland LGBT Heritage Project. He was artist in residence at the 2019 Outburst Queer Arts Festival. \n
URL:https://qpol.dev.palebluedot.tv/event/ulsters-lesser-spotted-queer-protestant/
LOCATION:Old Staff Common Room\, Queen's University Belfast\, University Road\, Belfast\, BT7 1NN\, United Kingdom
CATEGORIES:Event
ATTACH;FMTTYPE=image/jpeg:https://qpol.dev.palebluedot.tv/wp-content/uploads/2020/03/Imagine-2020.jpg
END:VEVENT
END:VCALENDAR