BEGIN:VCALENDAR
VERSION:2.0
PRODID:-//Queen&#039;s Policy Engagement - ECPv4.7.0.1//NONSGML v1.0//EN
CALSCALE:GREGORIAN
METHOD:PUBLISH
X-WR-CALNAME:Queen&#039;s Policy Engagement
X-ORIGINAL-URL:https://qpol.dev.palebluedot.tv
X-WR-CALDESC:Events for Queen&#039;s Policy Engagement
BEGIN:VEVENT
DTSTART;TZID=Europe/London:20180314T190000
DTEND;TZID=Europe/London:20180314T210000
DTSTAMP:20260422T015315
CREATED:20180302T104714Z
LAST-MODIFIED:20180302T104714Z
UID:4128-1521054000-1521061200@qpol.dev.palebluedot.tv
SUMMARY:Voices and views of 20th Century Belfast
DESCRIPTION:\n\nThis talk explores aspects of 20th Century Belfast through the voices and visions of people outside the mainstream or struggling to survive in a challenging urban environment. \nOur speakers will recover the voices of immigrant groups negotiating the polarities of a bifurcated society\, including those of Belfast’s Jewish\, Italian and Chinese communities\, and review the contrasting images created by those who sought to expose the realities of poverty in the city through photography and others who offered escapism to the working classes through the mass medium of cinema. \n‘Voices and Views of Belfast’ is hosted by the Institute of Irish Studies and Centre for Public History at Queen’s University and showcases the exciting new research on the city’s hidden histories by four of our early career researchers. \n\n\n
URL:https://qpol.dev.palebluedot.tv/event/voices-views-20th-century-belfast/
ATTACH;FMTTYPE=image/jpeg:https://qpol.dev.palebluedot.tv/wp-content/uploads/2018/03/voice-and-views.jpg
END:VEVENT
END:VCALENDAR