BEGIN:VCALENDAR
VERSION:2.0
PRODID:-//Queen&#039;s Policy Engagement - ECPv4.7.0.1//NONSGML v1.0//EN
CALSCALE:GREGORIAN
METHOD:PUBLISH
X-WR-CALNAME:Queen&#039;s Policy Engagement
X-ORIGINAL-URL:https://qpol.dev.palebluedot.tv
X-WR-CALDESC:Events for Queen&#039;s Policy Engagement
BEGIN:VEVENT
DTSTART;TZID=Europe/London:20160922T173000
DTEND;TZID=Europe/London:20160923T170000
DTSTAMP:20260421T131808
CREATED:20160914T145213Z
LAST-MODIFIED:20160914T145213Z
UID:1721-1474565400-1474650000@qpol.dev.palebluedot.tv
SUMMARY:Women and Leadership in a Changing World - International Conference
DESCRIPTION:Queen’s University Belfast presents a major international conference that explores the role of women in leadership positions in a changing world.  Organised jointly with the University of Massachusetts at Lowell\, the conference brings together an excellent line-up of speakers from across the UK\, Ireland and USA\, speakers who have broken through the glass ceiling in politics\, law\, business and higher education as well as inspirational young women breaking the mould. \nThis opportunity to learn from and take part in discussions on a range of topical issues concerning leadership and gender is not to be missed! \nFor further information and to register\, please visit the conference web site. \n
URL:https://qpol.dev.palebluedot.tv/event/women-and-leadership-in-a-changing-world-international-conference/
LOCATION:Riddel Hall\, 185 Stranmillis Road \, Belfast\, Co Antrim \, BT9 5EE\, United Kingdom
ATTACH;FMTTYPE=image/jpeg:https://qpol.dev.palebluedot.tv/wp-content/uploads/2016/09/Women-Conference-2.jpg
END:VEVENT
END:VCALENDAR